BEGIN:VCALENDAR
VERSION:2.0
PRODID:-//North Florida Springs Alliance (NFSA) - ECPv6.15.20//NONSGML v1.0//EN
CALSCALE:GREGORIAN
METHOD:PUBLISH
X-WR-CALNAME:North Florida Springs Alliance (NFSA)
X-ORIGINAL-URL:http://northfloridaspringsalliance.org
X-WR-CALDESC:Events for North Florida Springs Alliance (NFSA)
REFRESH-INTERVAL;VALUE=DURATION:PT1H
X-Robots-Tag:noindex
X-PUBLISHED-TTL:PT1H
BEGIN:VTIMEZONE
TZID:America/New_York
BEGIN:DAYLIGHT
TZOFFSETFROM:-0500
TZOFFSETTO:-0400
TZNAME:EDT
DTSTART:20180311T070000
END:DAYLIGHT
BEGIN:STANDARD
TZOFFSETFROM:-0400
TZOFFSETTO:-0500
TZNAME:EST
DTSTART:20181104T060000
END:STANDARD
BEGIN:DAYLIGHT
TZOFFSETFROM:-0500
TZOFFSETTO:-0400
TZNAME:EDT
DTSTART:20190310T070000
END:DAYLIGHT
BEGIN:STANDARD
TZOFFSETFROM:-0400
TZOFFSETTO:-0500
TZNAME:EST
DTSTART:20191103T060000
END:STANDARD
BEGIN:DAYLIGHT
TZOFFSETFROM:-0500
TZOFFSETTO:-0400
TZNAME:EDT
DTSTART:20200308T070000
END:DAYLIGHT
BEGIN:STANDARD
TZOFFSETFROM:-0400
TZOFFSETTO:-0500
TZNAME:EST
DTSTART:20201101T060000
END:STANDARD
BEGIN:DAYLIGHT
TZOFFSETFROM:-0500
TZOFFSETTO:-0400
TZNAME:EDT
DTSTART:20210314T070000
END:DAYLIGHT
BEGIN:STANDARD
TZOFFSETFROM:-0400
TZOFFSETTO:-0500
TZNAME:EST
DTSTART:20211107T060000
END:STANDARD
BEGIN:DAYLIGHT
TZOFFSETFROM:-0500
TZOFFSETTO:-0400
TZNAME:EDT
DTSTART:20220313T070000
END:DAYLIGHT
BEGIN:STANDARD
TZOFFSETFROM:-0400
TZOFFSETTO:-0500
TZNAME:EST
DTSTART:20221106T060000
END:STANDARD
BEGIN:DAYLIGHT
TZOFFSETFROM:-0500
TZOFFSETTO:-0400
TZNAME:EDT
DTSTART:20230312T070000
END:DAYLIGHT
BEGIN:STANDARD
TZOFFSETFROM:-0400
TZOFFSETTO:-0500
TZNAME:EST
DTSTART:20231105T060000
END:STANDARD
BEGIN:DAYLIGHT
TZOFFSETFROM:-0500
TZOFFSETTO:-0400
TZNAME:EDT
DTSTART:20240310T070000
END:DAYLIGHT
BEGIN:STANDARD
TZOFFSETFROM:-0400
TZOFFSETTO:-0500
TZNAME:EST
DTSTART:20241103T060000
END:STANDARD
BEGIN:DAYLIGHT
TZOFFSETFROM:-0500
TZOFFSETTO:-0400
TZNAME:EDT
DTSTART:20250309T070000
END:DAYLIGHT
BEGIN:STANDARD
TZOFFSETFROM:-0400
TZOFFSETTO:-0500
TZNAME:EST
DTSTART:20251102T060000
END:STANDARD
END:VTIMEZONE
BEGIN:VEVENT
DTSTART;TZID=America/New_York:20240423T190000
DTEND;TZID=America/New_York:20240423T200000
DTSTAMP:20260424T131212
CREATED:20240416T111049Z
LAST-MODIFIED:20240416T111049Z
UID:1570-1713898800-1713902400@northfloridaspringsalliance.org
SUMMARY:1Q2024 BOD Meeting
DESCRIPTION:The NFSA will be holding a board meeting for 1Q2024 on Tuesday\, April 23\, 2024 @ 7pm (Eastern Time). The board meeting will be conducted via conference call: Phone Number: +1 (605) 313-5577 Access Code: 651323 (Charges may apply depending upon your method and location\, e.g. long distance\, international\, etc.)
URL:http://northfloridaspringsalliance.org/event/1q2024-bod-meeting/
END:VEVENT
BEGIN:VEVENT
DTSTART;TZID=America/New_York:20230905T190000
DTEND;TZID=America/New_York:20230905T200000
DTSTAMP:20260424T131212
CREATED:20230829T025402Z
LAST-MODIFIED:20230829T025402Z
UID:1507-1693940400-1693944000@northfloridaspringsalliance.org
SUMMARY:3Q2023 BOD Meeting
DESCRIPTION:The NFSA will be holding a board meeting for 3Q2023 on Tuesday\, Sept. 5\, 2023 @ 7pm (Eastern Time). The board meeting will be conducted via conference call:\n\n\n\nPhone Number: +1 (605) 313-5577\nAccess Code: 651323 \n(Charges may apply depending upon your method and location\, e.g. long distance\, international\, etc.)
URL:http://northfloridaspringsalliance.org/event/3q2023-bod-meeting/
END:VEVENT
BEGIN:VEVENT
DTSTART;TZID=America/New_York:20210629T170000
DTEND;TZID=America/New_York:20210629T180000
DTSTAMP:20260424T131212
CREATED:20210622T131737Z
LAST-MODIFIED:20210622T131929Z
UID:1351-1624986000-1624989600@northfloridaspringsalliance.org
SUMMARY:NFSA 2ND Quarter Board Meeting
DESCRIPTION:The NFSA will hold its 2ND Quarter Board Meeting via teleconference on Tuesday June 29th\, 2021 at 7:00pm Eastern Time. \nThe meeting is open to the public. Please contact VP RB Havens for conference call login information. \n 
URL:http://northfloridaspringsalliance.org/event/nfsa-2nd-quarter-board-meeting/
END:VEVENT
BEGIN:VEVENT
DTSTART;TZID=America/New_York:20210316T190000
DTEND;TZID=America/New_York:20210316T200000
DTSTAMP:20260424T131212
CREATED:20210410T133910Z
LAST-MODIFIED:20210410T133930Z
UID:1259-1615921200-1615924800@northfloridaspringsalliance.org
SUMMARY:1Q2021 Board Meeting
DESCRIPTION:The NFSA will be holding a board meeting for 1Q2021 on Tuesday\, March 16\, 2021 @ 7pm (Eastern Time). The board meeting will be conducted via conference call:\n\n\n\nPhone Number: +1 (605) 313-5577\nAccess Code: 651323 \n(Charges may apply depending upon your method and location\, e.g. long distance\, international\, etc.)
URL:http://northfloridaspringsalliance.org/event/1q2021-board-meeting/
END:VEVENT
BEGIN:VEVENT
DTSTART;TZID=America/New_York:20200617T190000
DTEND;TZID=America/New_York:20200617T200000
DTSTAMP:20260424T131212
CREATED:20200611T211338Z
LAST-MODIFIED:20200611T211338Z
UID:1107-1592420400-1592424000@northfloridaspringsalliance.org
SUMMARY:2Q2020 Board Meeting
DESCRIPTION:The NFSA will be holding a board meeting for 2Q2020 on Wednesday\, June 17\, 2020 @ 7pm (EDT). The board meeting will be conducted via conference call: \nPhone Number: +1 (605) 313-5577\nAccess Code: 651323 \n(Charges may apply depending upon your method and location\, e.g. long distance\, international\, etc.)
URL:http://northfloridaspringsalliance.org/event/2q2020-board-meeting/
END:VEVENT
BEGIN:VEVENT
DTSTART;TZID=America/New_York:20200529T080000
DTEND;TZID=America/New_York:20200531T170000
DTSTAMP:20260424T131212
CREATED:20200526T182335Z
LAST-MODIFIED:20200526T182335Z
UID:1083-1590739200-1590944400@northfloridaspringsalliance.org
SUMMARY:Orange Grove Deck Board Replacement Project\, Wes Skiles Peacock Springs State Park
DESCRIPTION:The NFSA would will be working on the Orange Grove Sink access stairs this weekend\, Friday May 29th-Sunday May 31. We will be replacing deck boards on the ramp\, upper stairs and landing/bench area.\n\n\nThis will require some intermediate closing of access to the sink stairs to make the repairs. We apologize for any inconvenience to the public.\n\n\nIf you would like to volunteer to help with this project\, please contact me via email. We will provide personal safety equipment\, lunch\, water and tools needed to do the work. If you are not skilled with handling tools\, we can always use help carrying lumber and with general cleanup.\n\n\nThank you for your continued support of the NFSA\, your donations\, memberships and volunteer work make these improvement projects possible.\n\n\nRB Havens\nVP NFSA
URL:http://northfloridaspringsalliance.org/event/orange-grove-deck-board-replacement-project-wes-skiles-peacock-springs-state-park/
END:VEVENT
BEGIN:VEVENT
DTSTART;TZID=America/New_York:20200331T190000
DTEND;TZID=America/New_York:20200331T200000
DTSTAMP:20260424T131212
CREATED:20200402T143115Z
LAST-MODIFIED:20200402T143115Z
UID:1008-1585681200-1585684800@northfloridaspringsalliance.org
SUMMARY:NFSA 1Q2020 Board Meeting
DESCRIPTION:The NFSA will be holding a board meeting for 1Q2020 on Tuesday\, March 31\, 2020 @ 7pm (EDT). The board meeting will be conducted via conference call: \nPhone Number: +1 (605) 313-5577\nAccess Code: 651323 \n(Charges may apply depending upon your method and location\, e.g. long distance\, international\, etc.)
URL:http://northfloridaspringsalliance.org/event/nfsa-1q2020-board-meeting/
END:VEVENT
BEGIN:VEVENT
DTSTART;TZID=America/New_York:20191116T100000
DTEND;TZID=America/New_York:20191116T150000
DTSTAMP:20260424T131212
CREATED:20191102T170639Z
LAST-MODIFIED:20191110T131023Z
UID:957-1573898400-1573916400@northfloridaspringsalliance.org
SUMMARY:NFSA Annual Visitor Appreciation Day
DESCRIPTION:The North Florida Springs Alliance Visitor Appreciation Day Cookout and Annual Board Meeting will be on Saturday November\, 16th 2019 at Wes Skiles Peacock Springs State Park. \n\nCome join us for good company\, good food and enjoy the park.\nThe annual NFSA board meeting will be open to NFSA members\, NFSA volunteers and the public and held at 2:00pm\, board member elections will be held at this meeting.\nWould you like to become a NFSA volunteer and help us take care of our beautiful springs State Parks? The cookout is a great opportunity to meet the NFSA board members and other volunteers.\nPark entrance and cookout is free.\nCome and enjoy all this great park has to offer\, swimming\, hiking\, cave diving and birding.\nIf you are planning on attending please RSVP on Eventbrite so we can get a head count for food.
URL:http://northfloridaspringsalliance.org/event/nfsa-annual-visitor-appreciation-day/
LOCATION:Wes Skiles Peacock Springs State Park
END:VEVENT
BEGIN:VEVENT
DTSTART;TZID=America/New_York:20190624T190000
DTEND;TZID=America/New_York:20190624T200000
DTSTAMP:20260424T131212
CREATED:20190620T190742Z
LAST-MODIFIED:20190620T190742Z
UID:835-1561402800-1561406400@northfloridaspringsalliance.org
SUMMARY:NFSA 2Q2019 Board Meeting
DESCRIPTION:The NFSA will be holding a board meeting for 2Q2019 on Monday\, June 24\, 2019 @ 7pm (EDT). The board meeting will be conducted via conference call: \nPhone Number: +1 (605) 313-5577\nAccess Code: 651323 \n(Charges may apply depending upon your method and location\, e.g. long distance\, international\, etc.)
URL:http://northfloridaspringsalliance.org/event/nfsa-2q2019-board-meeting/
END:VEVENT
END:VCALENDAR